BEGIN:VCALENDAR
VERSION:2.0
PRODID:-//The Beer Room - ECPv6.13.2.1//NONSGML v1.0//EN
CALSCALE:GREGORIAN
METHOD:PUBLISH
X-WR-CALNAME:The Beer Room
X-ORIGINAL-URL:https://thebeerroom.com
X-WR-CALDESC:Events for The Beer Room
REFRESH-INTERVAL;VALUE=DURATION:PT1H
X-Robots-Tag:noindex
X-PUBLISHED-TTL:PT1H
BEGIN:VTIMEZONE
TZID:UTC
BEGIN:STANDARD
TZOFFSETFROM:+0000
TZOFFSETTO:+0000
TZNAME:UTC
DTSTART:20170101T000000
END:STANDARD
END:VTIMEZONE
BEGIN:VEVENT
DTSTART;TZID=UTC:20170727T180000
DTEND;TZID=UTC:20170727T220000
DTSTAMP:20260422T182747
CREATED:20170727T000829Z
LAST-MODIFIED:20170727T000829Z
UID:2133-1501178400-1501192800@thebeerroom.com
SUMMARY:Punk Rock Thursday
DESCRIPTION:“Punk Rock Thursday” is happening! We will have a guest DJ spinning punk classics from 6-10pm this Thursday\, 7-27
URL:https://thebeerroom.com/event/punk-rock-thursday/
LOCATION:The Beer Room\, 22587 Barton Rd\, Grand Terrace\, CA\, 92313\, United States
CATEGORIES:Beer
ATTACH;FMTTYPE=image/jpeg:https://thebeerroom.com/wp-content/uploads/sites/53/2017/07/Punk-Thursday.jpg
END:VEVENT
BEGIN:VEVENT
DTSTART;TZID=UTC:20170709T120000
DTEND;TZID=UTC:20170709T170000
DTSTAMP:20260422T182747
CREATED:20170614T200528Z
LAST-MODIFIED:20170614T200528Z
UID:2118-1499601600-1499619600@thebeerroom.com
SUMMARY:Home Brew Demo/Tasting at The Beer Room
DESCRIPTION:Home Brew Day!! The Beer Room will host a home brew demo on our Patio starting at 12pm. We’ll be open to sell beer and will also offer free samples of the last home brew from our demo back on June 4th. The whole process should take about 5 hours and you’re welcome to join in or watch at any point in the day. Hope to see you there! For up to date information visit our Facebook page at Facebook.com/thebeerroomgrandterrace
URL:https://thebeerroom.com/event/home-brew-demotasting-beer-room/
LOCATION:The Beer Room\, 22587 Barton Rd\, Grand Terrace\, CA\, 92313\, United States
CATEGORIES:Beer,Home Brew
ATTACH;FMTTYPE=image/jpeg:https://thebeerroom.com/wp-content/uploads/sites/53/2017/06/FullSizeRender-2-2.jpg
END:VEVENT
BEGIN:VEVENT
DTSTART;TZID=UTC:20170701T130000
DTEND;TZID=UTC:20170701T170000
DTSTAMP:20260422T182747
CREATED:20170629T011840Z
LAST-MODIFIED:20170629T011840Z
UID:2128-1498914000-1498928400@thebeerroom.com
SUMMARY:Iron Maiden Steal the Glass @ 1pm
DESCRIPTION:Calling all Iron Maiden fans! Before you Run to the Hills of Devore this Saturday to watch Maiden\, stop by The Beer Room for a Trooper Steal the Glass! Grab this sweet poster and a pin! OPEN @ 1pm!! Metal will be blasting on the speakers too.
URL:https://thebeerroom.com/event/iron-maiden-steal-glass-1pm/
LOCATION:The Beer Room\, 22587 Barton Rd\, Grand Terrace\, CA\, 92313\, United States
CATEGORIES:Beer,Drinks,Steal the Glass
ATTACH;FMTTYPE=image/jpeg:https://thebeerroom.com/wp-content/uploads/sites/53/2017/06/IMG_0263.jpg
END:VEVENT
BEGIN:VEVENT
DTSTART;TZID=UTC:20170623T150000
DTEND;TZID=UTC:20170623T230000
DTSTAMP:20260422T182747
CREATED:20170613T001000Z
LAST-MODIFIED:20170613T001000Z
UID:2115-1498230000-1498258800@thebeerroom.com
SUMMARY:Beer & Cigar Night with IE Cigar Club
DESCRIPTION:The Beer Room in Grand Terrance has opened up the patio on Friday June 23 to host a monthly Inland Empire Cigar Club Meet-up. We will be featuring both the 2016 and 2017 versions of “Rye on Rye on Rye” from Boulevard Brewing Co. These 14.6% abv Whiskey Barrel Aged Ales will pair very well with a variety of cigars. Golden State Cigars will be in attendance to assist you with any of your cigar needs. Come out and enjoy a cigar and a premium craft beer. Hope to see you all there…Cheers!
URL:https://thebeerroom.com/event/beer-cigar-night-ie-cigar-club/
LOCATION:The Beer Room\, 22587 Barton Rd\, Grand Terrace\, CA\, 92313\, United States
CATEGORIES:Beer,Cigars
ATTACH;FMTTYPE=image/jpeg:https://thebeerroom.com/wp-content/uploads/sites/53/2017/06/Cigar-and-Beer-night-6-23.jpg
END:VEVENT
BEGIN:VEVENT
DTSTART;TZID=UTC:20170513T000000
DTEND;TZID=UTC:20170513T235900
DTSTAMP:20260422T182747
CREATED:20170505T232628Z
LAST-MODIFIED:20240103T204922Z
UID:1656-1494633600-1494719940@thebeerroom.com
SUMMARY:Fundraising Event: AIDS LifeCycle
DESCRIPTION:This fundraising event will benefit AIDS LifeCycle\, the ride to end AIDS. A Raffle will be held for gift baskets from Jenson USA as well as from the participating breweries: Claremont Craft Ales\, Figueroa Mountain\, Noble Ale Works\, Pizza Port\, Stone Brewing and Track 7!! 100% of the raffle ticket sales will go directly to the benefiting charities. A portion of Beer sales will also be donated! Special release beers will be announced this coming week. Check back for more details!
URL:https://thebeerroom.com/event/fundraising-event-aids-lifecycle/
LOCATION:The Beer Room\, 22587 Barton Rd\, Grand Terrace\, CA\, 92313\, United States
CATEGORIES:Beer,Cycling,Drinks,Food
ATTACH;FMTTYPE=image/jpeg:https://thebeerroom.com/wp-content/uploads/sites/53/2017/05/beer-room-1.jpg
END:VEVENT
END:VCALENDAR