BEGIN:VCALENDAR
VERSION:2.0
PRODID:-//The Beer Room - ECPv6.13.2.1//NONSGML v1.0//EN
CALSCALE:GREGORIAN
METHOD:PUBLISH
X-ORIGINAL-URL:https://thebeerroom.com
X-WR-CALDESC:Events for The Beer Room
REFRESH-INTERVAL;VALUE=DURATION:PT1H
X-Robots-Tag:noindex
X-PUBLISHED-TTL:PT1H
BEGIN:VTIMEZONE
TZID:UTC
BEGIN:STANDARD
TZOFFSETFROM:+0000
TZOFFSETTO:+0000
TZNAME:UTC
DTSTART:20170101T000000
END:STANDARD
END:VTIMEZONE
BEGIN:VEVENT
DTSTART;TZID=UTC:20180213T150000
DTEND;TZID=UTC:20180213T220000
DTSTAMP:20260419T123015
CREATED:20180209T061927Z
LAST-MODIFIED:20180209T061928Z
UID:2226-1518534000-1518559200@thebeerroom.com
SUMMARY:FAT TUESDAY at The Beer Room
DESCRIPTION:Ever wanted to hang out at The Beer Room on a Tuesday? Well Tuesday\, February 13th is your “h”opportunity! Come celebrate Fat Tuesday with us! Featuring Mardi Gras Bock from Abita Beer and FOOD from La Salle A Vie pop up kitchen. We will open from 3pm to 10pm.
URL:https://thebeerroom.com/event/fat-tuesday-beer-room/
LOCATION:The Beer Room\, 22587 Barton Rd\, Grand Terrace\, CA\, 92313\, United States
CATEGORIES:Beer,Food
ATTACH;FMTTYPE=image/png:https://thebeerroom.com/wp-content/uploads/sites/53/2018/02/fat-tuesday-2-2.png
END:VEVENT
BEGIN:VEVENT
DTSTART;TZID=UTC:20180118T160000
DTEND;TZID=UTC:20180118T230000
DTSTAMP:20260419T123015
CREATED:20180118T051824Z
LAST-MODIFIED:20180118T051825Z
UID:2218-1516291200-1516316400@thebeerroom.com
SUMMARY:Firkin Friday: Featuring Oak Aged Ritual Red on Cask
DESCRIPTION:Come join us on Friday the 19th for our first ever “Firkin Friday” featuring Oak Aged Ritual Red served the “real” way… out of a cask!! We will also have a Steal the Glass with Ritual! Tapping at 4pm!
URL:https://thebeerroom.com/event/firkin-friday-featuring-oak-aged-ritual-red-cask/
LOCATION:The Beer Room\, 22587 Barton Rd\, Grand Terrace\, CA\, 92313\, United States
CATEGORIES:Beer,Steal the Glass
ATTACH;FMTTYPE=image/jpeg:https://thebeerroom.com/wp-content/uploads/sites/53/2018/01/25073258_1944563475818206_7919917185431265934_o.jpg
END:VEVENT
BEGIN:VEVENT
DTSTART;TZID=UTC:20180118T150000
DTEND;TZID=UTC:20180118T220000
DTSTAMP:20260419T123015
CREATED:20180118T053430Z
LAST-MODIFIED:20180118T053430Z
UID:2221-1516287600-1516312800@thebeerroom.com
SUMMARY:Smog City Tap Takeover and Steal the Glass
DESCRIPTION:Come hang out with Smog City at The Beer Room on Wednesday\, January 24th! We will have Steal the Glass starting at 3pm.  Featured Beers: \nCoffee Porter – 6% \nSmog City IPA – 7.3% \nThe Nothing – 10%
URL:https://thebeerroom.com/event/smog-city-tap-takeover-steal-glass/
LOCATION:The Beer Room\, 22587 Barton Rd\, Grand Terrace\, CA\, 92313\, United States
CATEGORIES:Beer,Steal the Glass
ATTACH;FMTTYPE=image/png:https://thebeerroom.com/wp-content/uploads/sites/53/2018/01/SmogCityLogo.png
END:VEVENT
BEGIN:VEVENT
DTSTART;TZID=UTC:20180113T030000
DTEND;TZID=UTC:20180113T230000
DTSTAMP:20260419T123015
CREATED:20171219T052736Z
LAST-MODIFIED:20180109T225057Z
UID:2198-1515812400-1515884400@thebeerroom.com
SUMMARY:Track 7 Brewing Anniversary Party
DESCRIPTION:We will be hosting a local celebration for Track 7 Brewing’s Anniversary on Saturday\, January 13th!! We will have 7 featured beers ON TAP\, RAFFLES and CRUZIN’ TACOS serving on the patio. FLIGHTS of all 7 beers will be available and served in a cool anniversary glass that you get to keep!! We will open at 3pm.\n\n\n\nFeatured beers are:\n\n\n\nAnniversary Beers:\n\n\nLL Brew J- West Coast DIPA\n\n\nAnother Bad Creation- A kettle sour IPA with Pineapple\n\n\nHaze and Lupilin in Curtis Park- N.E. Inspired West Coast IPA\n\n\nDarkness\, Imprisoning Me- Russian Imperial Stout with Coffee and Vanilla\n\n\n\nBrewers Breakfast:\n\n\n2nd Breakfast (10.4%) – Russian Imperial Stout w/ Maple Syrup\, Coffee and Cinnamon\n\n\nStruddleberry (7.2%) – Kettle Sour Ale w/ Boysenberry\, Lactose\n\n\nBrewer’s Brunch (9.6%) – 75% / 25% Blend of the two
URL:https://thebeerroom.com/event/track-7-brewing-anniversary-party/
LOCATION:The Beer Room\, 22587 Barton Rd\, Grand Terrace\, CA\, 92313\, United States
CATEGORIES:Beer,Drinks,Food,Steal the Glass
ATTACH;FMTTYPE=image/jpeg:https://thebeerroom.com/wp-content/uploads/sites/53/2017/12/23659671_844871652340437_6320234412458075644_n.jpg
END:VEVENT
BEGIN:VEVENT
DTSTART;TZID=UTC:20171214T060000
DTEND;TZID=UTC:20171214T220000
DTSTAMP:20260419T123015
CREATED:20171207T000554Z
LAST-MODIFIED:20171207T000555Z
UID:2194-1513231200-1513288800@thebeerroom.com
SUMMARY:Ugly Sweater X-MAS Party
DESCRIPTION:Ask your Grandma to borrow her best sweater\, because it’s ugly sweater season and The Beer Room has your party on Thursday 12/14!! We’ll have a steal the glass\, Belgian Christmas ales on tap and prizes for the worst sweaters! Check back in for more details.
URL:https://thebeerroom.com/event/ugly-sweater-x-mas-party/
LOCATION:The Beer Room\, 22587 Barton Rd\, Grand Terrace\, CA\, 92313\, United States
CATEGORIES:Beer,Drinks,Parties,Steal the Glass
ATTACH;FMTTYPE=image/jpeg:https://thebeerroom.com/wp-content/uploads/sites/53/2017/12/IMG_3733.jpg
END:VEVENT
BEGIN:VEVENT
DTSTART;TZID=UTC:20171129T150000
DTEND;TZID=UTC:20171129T220000
DTSTAMP:20260419T123015
CREATED:20171121T194030Z
LAST-MODIFIED:20171121T194030Z
UID:2180-1511967600-1511992800@thebeerroom.com
SUMMARY:Bell's Brewery Steal the Glass
DESCRIPTION:Come hang out with Bell’s Brewery on Wednesday\, Nov. 29th! Featured Beers: Wild One Sour\, Expedition Stout\, and of course Two Hearted Ale (because it’s delicious). Yes we’ve had this glass before\, but all who got one loved it and all who didn’t were pretty sad… so here again we present to you the Two Hearted Ale “fish” glass!
URL:https://thebeerroom.com/event/bells-brewery-steal-glass/
LOCATION:The Beer Room\, 22587 Barton Rd\, Grand Terrace\, CA\, 92313\, United States
CATEGORIES:Beer,Drinks,Steal the Glass
ATTACH;FMTTYPE=image/jpeg:https://thebeerroom.com/wp-content/uploads/sites/53/2017/11/20819632_1894689174138970_59225789526591769_o.jpg
END:VEVENT
BEGIN:VEVENT
DTSTART;TZID=UTC:20170923T150000
DTEND;TZID=UTC:20170923T230000
DTSTAMP:20260419T123015
CREATED:20170908T050154Z
LAST-MODIFIED:20170908T050309Z
UID:2158-1506178800-1506207600@thebeerroom.com
SUMMARY:Oktoberfest: Beer Room Style
DESCRIPTION:Come celebrate Oktoberfest at The Beer Room! Featuring ON TAP: Hofbräu Oktoberfest\, Sierra Nevada Oktoberfest (collaboration with Germany’s Brauhaus Miltenberger) and Victory Festbier. We will have Oktoberfest Mugs available and Big G’s BBQ will be on hand with some traditional Oktoberfest Food! Wir sehen uns dann.
URL:https://thebeerroom.com/event/oktoberfest-beer-room-style/
LOCATION:The Beer Room\, 22587 Barton Rd\, Grand Terrace\, CA\, 92313\, United States
CATEGORIES:Beer,Drinks,Food
ATTACH;FMTTYPE=image/jpeg:https://thebeerroom.com/wp-content/uploads/sites/53/2017/09/flag-bavaria-bavarian-pattern-image-search-results-153384.jpg
END:VEVENT
BEGIN:VEVENT
DTSTART;TZID=UTC:20170918T150000
DTEND;TZID=UTC:20170918T220000
DTSTAMP:20260419T123015
CREATED:20170914T203356Z
LAST-MODIFIED:20170917T033334Z
UID:2164-1505746800-1505772000@thebeerroom.com
SUMMARY:Metal Monday!
DESCRIPTION:Metal Monday! This Monday will feature a Steal the Glass with the Megadeth Beer (Á Tout Le Monde from Unibroue) and will include a very limited amount of Shirts featuring the same beer. Also on tap will be “Fruitallica” a DIPA from Stone / Beavertown / Garage Project! And of course we will have a killer playlist of Metal Music pumping through the speakers all night.
URL:https://thebeerroom.com/event/metal-monday/
LOCATION:The Beer Room\, 22587 Barton Rd\, Grand Terrace\, CA\, 92313\, United States
CATEGORIES:Beer,Steal the Glass
ATTACH;FMTTYPE=image/jpeg:https://thebeerroom.com/wp-content/uploads/sites/53/2017/09/17492479_1827067174234504_8688250776377942831_o-copy-2.jpeg
END:VEVENT
BEGIN:VEVENT
DTSTART;TZID=UTC:20170916T150000
DTEND;TZID=UTC:20170916T230000
DTSTAMP:20260419T123015
CREATED:20170908T040644Z
LAST-MODIFIED:20170914T204214Z
UID:2155-1505574000-1505602800@thebeerroom.com
SUMMARY:Track 7 Brewing Tap Takeover and Steal the Glass
DESCRIPTION:Track 7 Brewing will be featuring three awesome beers: Chasing Rainbows\, Disposable Heroes and Hop Addict.  We will also have a Steal the Glass and La Salle A Vie pop-up Kitchen will be serving on the Patio!! \nFor up-to-date information visit our event page at Facebook.com/thebeerroomgrandterrace. \nCheck out the FOOD MENU below:
URL:https://thebeerroom.com/event/track-7-brewing-tap-takeover-steal-glass/
LOCATION:The Beer Room\, 22587 Barton Rd\, Grand Terrace\, CA\, 92313\, United States
CATEGORIES:Beer,Drinks,Food,Steal the Glass
ATTACH;FMTTYPE=image/jpeg:https://thebeerroom.com/wp-content/uploads/sites/53/2017/09/21368693_1904164533191434_2573769595420903675_o-2-1.jpg
END:VEVENT
BEGIN:VEVENT
DTSTART;TZID=UTC:20170909T150000
DTEND;TZID=UTC:20170909T230000
DTSTAMP:20260419T123015
CREATED:20170907T223712Z
LAST-MODIFIED:20170907T223712Z
UID:2152-1504969200-1504998000@thebeerroom.com
SUMMARY:Punk Rock Saturday
DESCRIPTION:This Saturday we will be tapping “punk in drublic\,” a hoppy lager made in collaboration with Stone Brewing and Punk Rock icons NOFX!! We will also have DJ Punky Broaster spinning punk rock records starting at 7pm.
URL:https://thebeerroom.com/event/punk-rock-saturday/
LOCATION:The Beer Room\, 22587 Barton Rd\, Grand Terrace\, CA\, 92313\, United States
ATTACH;FMTTYPE=image/jpeg:https://thebeerroom.com/wp-content/uploads/sites/53/2017/09/BeerRoom-090917-punkindrub-2A.jpg
END:VEVENT
BEGIN:VEVENT
DTSTART;TZID=UTC:20170902T170000
DTEND;TZID=UTC:20170902T230000
DTSTAMP:20260419T123015
CREATED:20170902T004931Z
LAST-MODIFIED:20170902T004931Z
UID:2149-1504371600-1504393200@thebeerroom.com
SUMMARY:Big G's BBQ
DESCRIPTION:Big G’s BBQ will be here serving on the patio. Come celebrate the last weekend of the summer!  We will have  special sour beers on tap to go with that sweet sauce!  BBQ starts at 5pm.
URL:https://thebeerroom.com/event/big-gs-bbq/
LOCATION:The Beer Room\, 22587 Barton Rd\, Grand Terrace\, CA\, 92313\, United States
CATEGORIES:Beer,Food
ATTACH;FMTTYPE=image/jpeg:https://thebeerroom.com/wp-content/uploads/sites/53/2017/09/IMG_1809-2.jpg
END:VEVENT
BEGIN:VEVENT
DTSTART;TZID=UTC:20170819T150000
DTEND;TZID=UTC:20170819T220000
DTSTAMP:20260419T123015
CREATED:20170817T222438Z
LAST-MODIFIED:20170818T001644Z
UID:2144-1503154800-1503180000@thebeerroom.com
SUMMARY:Bell's Brewery Tap Takeover
DESCRIPTION:We will be celebrating the last few days of Summer with a Bell’s Brewing Tap Takeover and Steal the Glass.  Featured beers are: Sparkle Berry\, Two Hearted Ale\, Oberon\, and Lager of the Lakes.  We will have a Steal the Glass with three different glasses!! Hope to see you all there!
URL:https://thebeerroom.com/event/bells-brewery-tap-takeover/
LOCATION:The Beer Room\, 22587 Barton Rd\, Grand Terrace\, CA\, 92313\, United States
CATEGORIES:Beer,Drinks,Steal the Glass
ATTACH;FMTTYPE=image/jpeg:https://thebeerroom.com/wp-content/uploads/sites/53/2017/08/IMG_1632-2.jpg
END:VEVENT
BEGIN:VEVENT
DTSTART;TZID=UTC:20170811T000000
DTEND;TZID=UTC:20170811T235900
DTSTAMP:20260419T123015
CREATED:20170730T213421Z
LAST-MODIFIED:20240103T205118Z
UID:2136-1502409600-1502495940@thebeerroom.com
SUMMARY:The Beer Room 2nd Anniversary Weekend
DESCRIPTION:The Beer Room is turning two! Come down August 11th thru the 13th to celebrate 2 years of keeping it fresh. We have special beers lined up and different events for each day.\n\n\n\n\n\nDAY 1: The Bruery “keep the glass\,” TACOS\, Specialty Beer Releases\, Raffles and Good Vibes\n\n\n\n\n\nDAY 2: Modern Times Tap Take Over/Steal the Glass. Including Barrel Aged Monsters Park with coffee\, Bourbon Barrel Aged Devils Teeth\, and Barrel Aged Devils Teeth with Almonds\, Vanilla and Cocoa Nibs! Other beers are\, Luna Park\, Tetra City\, Orderville\, Blazing World and Fruitlands.\n\n\n\n\n\nDAY 3: DVLWND and Never Old Bones will be playing at 6pm on our Patio!
URL:https://thebeerroom.com/event/beer-room-2nd-anniversary-weekend/
LOCATION:The Beer Room\, 22587 Barton Rd\, Grand Terrace\, CA\, 92313\, United States
CATEGORIES:Beer,Cigars,Drinks,Food,Raffle,Steal the Glass
ATTACH;FMTTYPE=image/jpeg:https://thebeerroom.com/wp-content/uploads/sites/53/2017/07/Anniversary-weekend-picture-2.jpg
END:VEVENT
BEGIN:VEVENT
DTSTART;TZID=UTC:20170727T180000
DTEND;TZID=UTC:20170727T220000
DTSTAMP:20260419T123015
CREATED:20170727T000829Z
LAST-MODIFIED:20170727T000829Z
UID:2133-1501178400-1501192800@thebeerroom.com
SUMMARY:Punk Rock Thursday
DESCRIPTION:“Punk Rock Thursday” is happening! We will have a guest DJ spinning punk classics from 6-10pm this Thursday\, 7-27
URL:https://thebeerroom.com/event/punk-rock-thursday/
LOCATION:The Beer Room\, 22587 Barton Rd\, Grand Terrace\, CA\, 92313\, United States
CATEGORIES:Beer
ATTACH;FMTTYPE=image/jpeg:https://thebeerroom.com/wp-content/uploads/sites/53/2017/07/Punk-Thursday.jpg
END:VEVENT
BEGIN:VEVENT
DTSTART;TZID=UTC:20170709T120000
DTEND;TZID=UTC:20170709T170000
DTSTAMP:20260419T123015
CREATED:20170614T200528Z
LAST-MODIFIED:20170614T200528Z
UID:2118-1499601600-1499619600@thebeerroom.com
SUMMARY:Home Brew Demo/Tasting at The Beer Room
DESCRIPTION:Home Brew Day!! The Beer Room will host a home brew demo on our Patio starting at 12pm. We’ll be open to sell beer and will also offer free samples of the last home brew from our demo back on June 4th. The whole process should take about 5 hours and you’re welcome to join in or watch at any point in the day. Hope to see you there! For up to date information visit our Facebook page at Facebook.com/thebeerroomgrandterrace
URL:https://thebeerroom.com/event/home-brew-demotasting-beer-room/
LOCATION:The Beer Room\, 22587 Barton Rd\, Grand Terrace\, CA\, 92313\, United States
CATEGORIES:Beer,Home Brew
ATTACH;FMTTYPE=image/jpeg:https://thebeerroom.com/wp-content/uploads/sites/53/2017/06/FullSizeRender-2-2.jpg
END:VEVENT
BEGIN:VEVENT
DTSTART;TZID=UTC:20170701T130000
DTEND;TZID=UTC:20170701T170000
DTSTAMP:20260419T123015
CREATED:20170629T011840Z
LAST-MODIFIED:20170629T011840Z
UID:2128-1498914000-1498928400@thebeerroom.com
SUMMARY:Iron Maiden Steal the Glass @ 1pm
DESCRIPTION:Calling all Iron Maiden fans! Before you Run to the Hills of Devore this Saturday to watch Maiden\, stop by The Beer Room for a Trooper Steal the Glass! Grab this sweet poster and a pin! OPEN @ 1pm!! Metal will be blasting on the speakers too.
URL:https://thebeerroom.com/event/iron-maiden-steal-glass-1pm/
LOCATION:The Beer Room\, 22587 Barton Rd\, Grand Terrace\, CA\, 92313\, United States
CATEGORIES:Beer,Drinks,Steal the Glass
ATTACH;FMTTYPE=image/jpeg:https://thebeerroom.com/wp-content/uploads/sites/53/2017/06/IMG_0263.jpg
END:VEVENT
BEGIN:VEVENT
DTSTART;TZID=UTC:20170623T150000
DTEND;TZID=UTC:20170623T230000
DTSTAMP:20260419T123015
CREATED:20170613T001000Z
LAST-MODIFIED:20170613T001000Z
UID:2115-1498230000-1498258800@thebeerroom.com
SUMMARY:Beer & Cigar Night with IE Cigar Club
DESCRIPTION:The Beer Room in Grand Terrance has opened up the patio on Friday June 23 to host a monthly Inland Empire Cigar Club Meet-up. We will be featuring both the 2016 and 2017 versions of “Rye on Rye on Rye” from Boulevard Brewing Co. These 14.6% abv Whiskey Barrel Aged Ales will pair very well with a variety of cigars. Golden State Cigars will be in attendance to assist you with any of your cigar needs. Come out and enjoy a cigar and a premium craft beer. Hope to see you all there…Cheers!
URL:https://thebeerroom.com/event/beer-cigar-night-ie-cigar-club/
LOCATION:The Beer Room\, 22587 Barton Rd\, Grand Terrace\, CA\, 92313\, United States
CATEGORIES:Beer,Cigars
ATTACH;FMTTYPE=image/jpeg:https://thebeerroom.com/wp-content/uploads/sites/53/2017/06/Cigar-and-Beer-night-6-23.jpg
END:VEVENT
BEGIN:VEVENT
DTSTART;TZID=UTC:20170619T150000
DTEND;TZID=UTC:20170619T220000
DTSTAMP:20260419T123015
CREATED:20170606T060231Z
LAST-MODIFIED:20170614T204046Z
UID:2110-1497884400-1497909600@thebeerroom.com
SUMMARY:Weezer Night and Steal the Glass w/ Track 7
DESCRIPTION:Do you like Weezer? Well so do we! On June 19th we are going to have a Steal the Glass featuring California Kids from Track 7 Brewing Company\, a Double Milkshake IPA with Orange\, Vanilla & Orange Blossom Honey brewed for LA Beer Week. Since this beer is named after a Weezer song\, you know you’ll hear some Weezer on the radio that night too! (Sweaters recommended)
URL:https://thebeerroom.com/event/weezer-night-california-kids-track-7/
LOCATION:The Beer Room\, 22587 Barton Rd\, Grand Terrace\, CA\, 92313\, United States
CATEGORIES:Drinks,Food
ATTACH;FMTTYPE=image/jpeg:https://thebeerroom.com/wp-content/uploads/sites/53/2017/06/Track7_CanReleases_CA-Kids.jpg
END:VEVENT
BEGIN:VEVENT
DTSTART;TZID=UTC:20170603T000000
DTEND;TZID=UTC:20170603T235900
DTSTAMP:20260419T123015
CREATED:20170522T165718Z
LAST-MODIFIED:20240103T205042Z
UID:1739-1496448000-1496534340@thebeerroom.com
SUMMARY:Sierra Nevada Beer Camp
DESCRIPTION:Beer Camp Across the World is making a stop at The Beer Room!! We will have all 12 of the Beer Camp collaborations ON TAP at the same time. Plus food will be available and raffles will be held. This event was so fun last year we just had to do it again!
URL:https://thebeerroom.com/event/sierra-nevada-beer-camp/
LOCATION:The Beer Room\, 22587 Barton Rd\, Grand Terrace\, CA\, 92313\, United States
CATEGORIES:Drinks,Food
ATTACH;FMTTYPE=image/jpeg:https://thebeerroom.com/wp-content/uploads/sites/53/2017/05/the_beer_room_across_the_world_2017_event_image.jpg
END:VEVENT
BEGIN:VEVENT
DTSTART;TZID=UTC:20170529T150000
DTEND;TZID=UTC:20170529T190000
DTSTAMP:20260419T123015
CREATED:20170525T212858Z
LAST-MODIFIED:20170525T212858Z
UID:1748-1496070000-1496084400@thebeerroom.com
SUMMARY:Steal the Mug with Founders KBS
DESCRIPTION:This Memorial Day STEAL the Founder’s Mug when you buy a KBS on TAP!!
URL:https://thebeerroom.com/event/steal-mug-founders-kbs/
LOCATION:The Beer Room\, 22587 Barton Rd\, Grand Terrace\, CA\, 92313\, United States
CATEGORIES:Drinks,Food
ATTACH;FMTTYPE=image/jpeg:https://thebeerroom.com/wp-content/uploads/sites/53/2017/05/the_beer_room_kbs_event_image.jpg
END:VEVENT
BEGIN:VEVENT
DTSTART;TZID=UTC:20170513T000000
DTEND;TZID=UTC:20170513T235900
DTSTAMP:20260419T123015
CREATED:20170505T232628Z
LAST-MODIFIED:20240103T204922Z
UID:1656-1494633600-1494719940@thebeerroom.com
SUMMARY:Fundraising Event: AIDS LifeCycle
DESCRIPTION:This fundraising event will benefit AIDS LifeCycle\, the ride to end AIDS. A Raffle will be held for gift baskets from Jenson USA as well as from the participating breweries: Claremont Craft Ales\, Figueroa Mountain\, Noble Ale Works\, Pizza Port\, Stone Brewing and Track 7!! 100% of the raffle ticket sales will go directly to the benefiting charities. A portion of Beer sales will also be donated! Special release beers will be announced this coming week. Check back for more details!
URL:https://thebeerroom.com/event/fundraising-event-aids-lifecycle/
LOCATION:The Beer Room\, 22587 Barton Rd\, Grand Terrace\, CA\, 92313\, United States
CATEGORIES:Beer,Cycling,Drinks,Food
ATTACH;FMTTYPE=image/jpeg:https://thebeerroom.com/wp-content/uploads/sites/53/2017/05/beer-room-1.jpg
END:VEVENT
BEGIN:VEVENT
DTSTART;TZID=UTC:20170326T150000
DTEND;TZID=UTC:20170326T230000
DTSTAMP:20260419T123015
CREATED:20170324T231345Z
LAST-MODIFIED:20170324T233153Z
UID:1639-1490540400-1490569200@thebeerroom.com
SUMMARY:I.E. Brewery Tours Steal the Glass and Raffle
DESCRIPTION:I.E. brewerytours will be at The Beer Room TONIGHT for a Raffle and a Steal the Glass! We will also have a mini tour of the I.E. tonight with @ritualbrewingco @wicksbrewing and @escapecraftbrewery all on tap. Starts at 6:30pm\, get here early for a release of Alesmith Speedway Stout-Hammerhead on tap! We’re open from 3-11pm today.
URL:https://thebeerroom.com/event/e-brewery-tours-steal-glass-raffle/
LOCATION:The Beer Room\, 22587 Barton Rd\, Grand Terrace\, CA\, 92313\, United States
CATEGORIES:Brewery Tours,Parties,Raffle
ATTACH;FMTTYPE=image/jpeg:https://thebeerroom.com/wp-content/uploads/sites/53/2017/03/the_beer_room_event_web-optimized-image.jpg
END:VEVENT
BEGIN:VEVENT
DTSTART;VALUE=DATE:20170321
DTEND;VALUE=DATE:20170324
DTSTAMP:20260419T123015
CREATED:20170314T131235Z
LAST-MODIFIED:20170321T164753Z
UID:963-1490054400-1490313599@thebeerroom.com
SUMMARY:Test event
DESCRIPTION:some text here bla bla
URL:https://thebeerroom.com/event/test-event/
LOCATION:CA
CATEGORIES:Parties
ATTACH;FMTTYPE=image/jpeg:https://thebeerroom.com/wp-content/uploads/sites/53/2017/03/IMG_3941-1-2.jpg
END:VEVENT
BEGIN:VEVENT
DTSTART;VALUE=DATE:20170320
DTEND;VALUE=DATE:20170321
DTSTAMP:20260419T123015
CREATED:20170314T133519Z
LAST-MODIFIED:20170320T193030Z
UID:988-1489968000-1490054399@thebeerroom.com
SUMMARY:test 3 event
DESCRIPTION:vla bl
URL:https://thebeerroom.com/event/test-3-event/
LOCATION:name
CATEGORIES:Parties
ATTACH;FMTTYPE=image/jpeg:https://thebeerroom.com/wp-content/uploads/sites/53/2017/03/IMG_4384-1-1.jpg
END:VEVENT
END:VCALENDAR